BEGIN:VCALENDAR
METHOD:PUBLISH
VERSION:2.0
PRODID:-//hacksw/handcal//NONSGML v1.0//EN
BEGIN:VEVENT
DTSTAMP:20260423T170000
DTSTART:20260423T170000
DTEND:20260423T173000
SUMMARY:North-Facing Comfort in a Prime Inner-City Setting
LOCATION:13/30 Dooring Street, Braddon, Australian Capital Territory 2612
DESCRIPTION:
UID:98c32ff8-1173-43e9-aa44-7a660a48b209@independent.com.au
END:VEVENT
END:VCALENDAR
