BEGIN:VCALENDAR
METHOD:PUBLISH
VERSION:2.0
PRODID:-//hacksw/handcal//NONSGML v1.0//EN
BEGIN:VEVENT
DTSTAMP:20260425T110000
DTSTART:20260425T110000
DTEND:20260425T120000
SUMMARY:Excellent family home, superb location
LOCATION:25 Khull Crescent, Kambah, Australian Capital Territory 2902
DESCRIPTION:
UID:598f9bbe-b0f0-4dbb-8a34-f8238a1bb82c@independent.com.au
END:VEVENT
END:VCALENDAR
