BEGIN:VCALENDAR
METHOD:PUBLISH
VERSION:2.0
PRODID:-//hacksw/handcal//NONSGML v1.0//EN
BEGIN:VEVENT
DTSTAMP:20260426T100000
DTSTART:20260426T100000
DTEND:20260426T110000
SUMMARY:Brand new 2-bedroom residence positioned in the heart of the City
LOCATION:103/72 Allara Street, City, Australian Capital Territory 2601
DESCRIPTION:
UID:9fb738e0-f82f-41cf-81b1-212e72146838@independent.com.au
END:VEVENT
END:VCALENDAR
