BEGIN:VCALENDAR
METHOD:PUBLISH
VERSION:2.0
PRODID:-//hacksw/handcal//NONSGML v1.0//EN
BEGIN:VEVENT
DTSTAMP:20260426T110000
DTSTART:20260426T110000
DTEND:20260426T130000
SUMMARY:Embrace the spoils of living in this brand-new residence in this ultra-convenient location in the heart of the City
LOCATION:204/70 Allara Street, City, Australian Capital Territory 2601
DESCRIPTION:
UID:d81bf243-53a9-416c-a140-ce56da458231@independent.com.au
END:VEVENT
END:VCALENDAR
