BEGIN:VCALENDAR
METHOD:PUBLISH
VERSION:2.0
PRODID:-//hacksw/handcal//NONSGML v1.0//EN
BEGIN:VEVENT
DTSTAMP:20260426T130000
DTSTART:20260426T130000
DTEND:20260426T140000
SUMMARY:Brand new 3-bedroom residence with views towards Black Mountain & Telstra Tower
LOCATION:206/70 Allara Street, City, Australian Capital Territory 2601
DESCRIPTION:
UID:50a585cb-96b3-4893-9bea-504f19d19fd0@independent.com.au
END:VEVENT
END:VCALENDAR
