BEGIN:VCALENDAR
METHOD:PUBLISH
VERSION:2.0
PRODID:-//hacksw/handcal//NONSGML v1.0//EN
BEGIN:VEVENT
DTSTAMP:20260422T170000
DTSTART:20260422T170000
DTEND:20260422T173000
SUMMARY:Modern single level updated home in the Heart of Lyneham
LOCATION:16/21 Cossington Smith Crescent, Lyneham, Australian Capital Territory 2602
DESCRIPTION:
UID:8008c8de-536c-4275-b0ab-f74fed6b198f@independent.com.au
END:VEVENT
END:VCALENDAR
