BEGIN:VCALENDAR
METHOD:PUBLISH
VERSION:2.0
PRODID:-//hacksw/handcal//NONSGML v1.0//EN
BEGIN:VEVENT
DTSTAMP:20260421T170000
DTSTART:20260421T170000
DTEND:20260421T173000
SUMMARY:Sophisticated & Light-filled Apartment Living in Oaks Crown
LOCATION:131/11 Irving Street, Phillip, Australian Capital Territory 2606
DESCRIPTION:
UID:a8615252-9aa0-46b1-b27e-4bb9ea4b86be@independent.com.au
END:VEVENT
END:VCALENDAR
