BEGIN:VCALENDAR
METHOD:PUBLISH
VERSION:2.0
PRODID:-//hacksw/handcal//NONSGML v1.0//EN
BEGIN:VEVENT
DTSTAMP:20260426T120000
DTSTART:20260426T120000
DTEND:20260426T123000
SUMMARY:Elevated Braddon Living with Resort-Style Amenities
LOCATION:607/74 Northbourne Avenue, Braddon, Australian Capital Territory 2612
DESCRIPTION:
UID:5be44e65-d17f-444d-a66a-ee6a90c6bb91@independent.com.au
END:VEVENT
END:VCALENDAR
