BEGIN:VCALENDAR
METHOD:PUBLISH
VERSION:2.0
PRODID:-//hacksw/handcal//NONSGML v1.0//EN
BEGIN:VEVENT
DTSTAMP:20260425T130000
DTSTART:20260425T130000
DTEND:20260425T134500
SUMMARY:Urban Living at Its Best in the Heart of Dickson
LOCATION:512/484 Northbourne Avenue, Dickson, Australian Capital Territory 2602
DESCRIPTION:
UID:a2154a8e-a8f2-4b3d-89cc-a1aa7c2ad8e6@independent.com.au
END:VEVENT
END:VCALENDAR
