BEGIN:VCALENDAR
METHOD:PUBLISH
VERSION:2.0
PRODID:-//hacksw/handcal//NONSGML v1.0//EN
BEGIN:VEVENT
DTSTAMP:20260423T120000
DTSTART:20260423T120000
DTEND:20260423T124500
SUMMARY:Urban Living at Its Best in the Heart of Dickson
LOCATION:512/484 Northbourne Avenue, Dickson, Australian Capital Territory 2602
DESCRIPTION:
UID:265efa6c-07ba-41d8-a0b1-7b0451663527@independent.com.au
END:VEVENT
END:VCALENDAR
