BEGIN:VCALENDAR
METHOD:PUBLISH
VERSION:2.0
PRODID:-//hacksw/handcal//NONSGML v1.0//EN
BEGIN:VEVENT
DTSTAMP:20260426T140000
DTSTART:20260426T140000
DTEND:20260426T143000
SUMMARY:NEW PRICE
LOCATION:103/45 Eastlake Parade, Kingston, Australian Capital Territory 2604
DESCRIPTION:
UID:60749481-20cf-431b-8c23-80fbdfc697bb@independent.com.au
END:VEVENT
END:VCALENDAR
