BEGIN:VCALENDAR
METHOD:PUBLISH
VERSION:2.0
PRODID:-//hacksw/handcal//NONSGML v1.0//EN
BEGIN:VEVENT
DTSTAMP:20260423T170000
DTSTART:20260423T170000
DTEND:20260423T173000
SUMMARY:NEW PRICE
LOCATION:103/45 Eastlake Parade, Kingston, Australian Capital Territory 2604
DESCRIPTION:
UID:c3a3f1a5-0d94-4a68-a2f2-e9179ae57995@independent.com.au
END:VEVENT
END:VCALENDAR
