BEGIN:VCALENDAR
METHOD:PUBLISH
VERSION:2.0
PRODID:-//hacksw/handcal//NONSGML v1.0//EN
BEGIN:VEVENT
DTSTAMP:20260421T133000
DTSTART:20260421T133000
DTEND:20260421T140000
SUMMARY:NEW PRICE
LOCATION:103/45 Eastlake Parade, Kingston, Australian Capital Territory 2604
DESCRIPTION:
UID:84a8d75d-8c54-478d-8d77-f9051b951905@independent.com.au
END:VEVENT
END:VCALENDAR
