BEGIN:VCALENDAR
METHOD:PUBLISH
VERSION:2.0
PRODID:-//hacksw/handcal//NONSGML v1.0//EN
BEGIN:VEVENT
DTSTAMP:20260421T163000
DTSTART:20260421T163000
DTEND:20260421T171500
SUMMARY:Oversized one bedroom apartment with spacious terrace
LOCATION:403/19 Marcus Clarke Street, City, Australian Capital Territory 2601
DESCRIPTION:
UID:23e3176b-7d8b-43aa-b4a2-b080e77d3bba@independent.com.au
END:VEVENT
END:VCALENDAR
