BEGIN:VCALENDAR
METHOD:PUBLISH
VERSION:2.0
PRODID:-//hacksw/handcal//NONSGML v1.0//EN
BEGIN:VEVENT
DTSTAMP:20260426T100000
DTSTART:20260426T100000
DTEND:20260426T103000
SUMMARY:An original opportunity in a central Fisher position
LOCATION:14 Bendigo Street, Fisher, Australian Capital Territory 2611
DESCRIPTION:
UID:417dcb76-554c-4524-98b1-1153dbdf05fa@independent.com.au
END:VEVENT
END:VCALENDAR
