BEGIN:VCALENDAR
METHOD:PUBLISH
VERSION:2.0
PRODID:-//hacksw/handcal//NONSGML v1.0//EN
BEGIN:VEVENT
DTSTAMP:20260423T164500
DTSTART:20260423T164500
DTEND:20260423T171500
SUMMARY:Stunning semi-contemporary 4 bedroom 3 bathroom home set in Whitlam
LOCATION:9 Laurel Martyn View, Whitlam, Australian Capital Territory 2611
DESCRIPTION:
UID:6372f2b9-fcd6-4a8a-bebc-8ed58d039dce@independent.com.au
END:VEVENT
END:VCALENDAR
