BEGIN:VCALENDAR
METHOD:PUBLISH
VERSION:2.0
PRODID:-//hacksw/handcal//NONSGML v1.0//EN
BEGIN:VEVENT
DTSTAMP:20260426T110000
DTSTART:20260426T110000
DTEND:20260426T113000
SUMMARY:A modern family sanctuary in the heart of Rivett
LOCATION:8 Salsola Street, Rivett, Australian Capital Territory 2611
DESCRIPTION:
UID:46b042ef-e333-4b40-84a7-866b08afdb84@independent.com.au
END:VEVENT
END:VCALENDAR
