BEGIN:VCALENDAR
METHOD:PUBLISH
VERSION:2.0
PRODID:-//hacksw/handcal//NONSGML v1.0//EN
BEGIN:VEVENT
DTSTAMP:20260426T110000
DTSTART:20260426T110000
DTEND:20260426T113000
SUMMARY:A blank slate opportunity on a generous corner block
LOCATION:13 Chirnside Circuit, Kambah, Australian Capital Territory 2902
DESCRIPTION:
UID:5b562736-9e7d-4d11-b230-1014bc28e083@independent.com.au
END:VEVENT
END:VCALENDAR
