BEGIN:VCALENDAR
METHOD:PUBLISH
VERSION:2.0
PRODID:-//hacksw/handcal//NONSGML v1.0//EN
BEGIN:VEVENT
DTSTAMP:20260422T120000
DTSTART:20260422T120000
DTEND:20260422T123000
SUMMARY:A blank slate opportunity on a generous corner block
LOCATION:13 Chirnside Circuit, Kambah, Australian Capital Territory 2902
DESCRIPTION:
UID:604342e8-7113-45b1-9664-4338a7cd6278@independent.com.au
END:VEVENT
END:VCALENDAR
