BEGIN:VCALENDAR
METHOD:PUBLISH
VERSION:2.0
PRODID:-//hacksw/handcal//NONSGML v1.0//EN
BEGIN:VEVENT
DTSTAMP:20260424T123000
DTSTART:20260424T123000
DTEND:20260424T130000
SUMMARY:Stunning 4th Level 2 Bedroom Ensuite Residence In Premium Inner-south Development Boasting Approximately 100m2 Of Indoor/Outdoor Living
LOCATION:417/82 Wentworth Avenue, Kingston, Australian Capital Territory 2604
DESCRIPTION:
UID:76e1e879-c1e4-4d6f-a282-2a7afc8970cc@independent.com.au
END:VEVENT
END:VCALENDAR
