BEGIN:VCALENDAR
METHOD:PUBLISH
VERSION:2.0
PRODID:-//hacksw/handcal//NONSGML v1.0//EN
BEGIN:VEVENT
DTSTAMP:20260426T100000
DTSTART:20260426T100000
DTEND:20260426T103000
SUMMARY:Approved dual occupancy development only moments from Chifley shops
LOCATION:8 Coghlan Street, Chifley, Australian Capital Territory 2606
DESCRIPTION:
UID:fce29b04-9610-4317-9d68-0af24a0178e1@independent.com.au
END:VEVENT
END:VCALENDAR
