BEGIN:VCALENDAR
METHOD:PUBLISH
VERSION:2.0
PRODID:-//hacksw/handcal//NONSGML v1.0//EN
BEGIN:VEVENT
DTSTAMP:20260422T173000
DTSTART:20260422T173000
DTEND:20260422T180000
SUMMARY:Grandeur and architectural grace in the heart of Gleneagles
LOCATION:81 Mt Vernon Drive, Kambah, Australian Capital Territory 2902
DESCRIPTION:
UID:b5e25ff3-7b46-4f1d-8ed7-8c20e795da02@independent.com.au
END:VEVENT
END:VCALENDAR
