BEGIN:VCALENDAR
METHOD:PUBLISH
VERSION:2.0
PRODID:-//hacksw/handcal//NONSGML v1.0//EN
BEGIN:VEVENT
DTSTAMP:20260426T120000
DTSTART:20260426T120000
DTEND:20260426T123000
SUMMARY:Blue-ribbon position, architectural presence and effortless living on a 2,038m2 block
LOCATION:77 Hawkesbury Crescent, Farrer, Australian Capital Territory 2607
DESCRIPTION:
UID:10269163-6c92-4aff-ba7b-78e86d25711f@independent.com.au
END:VEVENT
END:VCALENDAR
